BEGIN:VCALENDAR
VERSION:2.0
PRODID:-//https://ikma.edu.my///NONSGML kigkonsult.se iCalcreator 2.10.15//
METHOD:PUBLISH
BEGIN:VEVENT
UID:20260425T201850UTC-5384cvvFKN@https://ikma.edu.my/
DTSTAMP:20260425T201850Z
DESCRIPTION:1. Menguruskan kedai dalam talian di e-Marketplace secara efekt
 if. 2. Meningkatkan pendapatan peserta melalui peluang yang ada di e-Marke
 tplace. https://ikma.edu.my/ms/takwim-program/event/52-strategi-jualan-mel
 alui-e-marketplace
DTSTART:20241104T080000Z
DTEND:20241106T170000Z
LOCATION:INSTITUT KOPERASI MALAYSIA\, PETALING JAYA  (INSTITUT KOPERASI MAL
 AYSIA\, PETALING JAYA )
SUMMARY:Strategi Jualan Melalui E-Marketplace
URL:https://ikma.edu.my/ms/takwim-program/event/52-strategi-jualan-melalui-
 e-marketplace
END:VEVENT
END:VCALENDAR
