BEGIN:VCALENDAR
VERSION:2.0
PRODID:-//https://ikma.edu.my///NONSGML kigkonsult.se iCalcreator 2.10.15//
METHOD:PUBLISH
BEGIN:VEVENT
UID:20260420T195937UTC-0936Wse2VH@https://ikma.edu.my/
DTSTAMP:20260420T195937Z
DESCRIPTION:1.&amp\;nbsp\;Memberi kefahaman berkaitan peranan dan tanggungj
 awab Jawatankuasa Audit Dalam Koperasi.&lt\;br /&gt\;2.&amp\;nbsp\;Memberi
  pendedahan cara melaksanakan kerja audit dalaman menggunakan tatacara aud
 it yang sistematik&nbsp\; https://ikma.edu.my/en/takwim-program/event/31-t
 atacara-pengauditan-dan-perakaunan-koperasi-wajib-jad
DTSTART:20240923T080000Z
DTEND:20240924T170000Z
LOCATION:INSTITUT KOPERASI MALAYSIA\, PETALING JAYA  (INSTITUT KOPERASI MAL
 AYSIA\, PETALING JAYA )
SUMMARY:Tatacara Pengauditan Dan Perakaunan Koperasi (Wajib JAD)
URL:https://ikma.edu.my/en/takwim-program/event/31-tatacara-pengauditan-dan
 -perakaunan-koperasi-wajib-jad
END:VEVENT
END:VCALENDAR
