BEGIN:VCALENDAR
VERSION:2.0
PRODID:-//https://ikma.edu.my///NONSGML kigkonsult.se iCalcreator 2.10.15//
METHOD:PUBLISH
BEGIN:VEVENT
UID:20260419T134855UTC-3443vhpo9G@https://ikma.edu.my/
DTSTAMP:20260419T134855Z
DESCRIPTION:\nMEMBERI KEFAHAMAN PROSES MEMBUAT KERTAS KERJA RANCANGAN PERNI
 AGAAN\nMEMBERI PENDEDAHAN MENGENAL PASTI ELEMEN YANG TERDAPAT DALAM KERTAS
  KERJA RANCANGAN PERNIAGAAN\nMEMBERI KEFAHAMAN MEMBANGUNKAN KERTAS KERJA R
 ANCANGAN PERNIAGAAN\n https://ikma.edu.my/en/takwim-program/event/22-kerta
 s-kerja-rancangan-perniagaan
DTSTART:20240827T080000Z
DTEND:20240828T170000Z
LOCATION:IKMa PETALING JAYA (IKMa PETALING JAYA)
SUMMARY:Kertas Kerja Rancangan Perniagaan
URL:https://ikma.edu.my/en/takwim-program/event/22-kertas-kerja-rancangan-p
 erniagaan
END:VEVENT
END:VCALENDAR
