BEGIN:VCALENDAR
VERSION:2.0
PRODID:-//https://ikma.edu.my///NONSGML kigkonsult.se iCalcreator 2.10.15//
METHOD:PUBLISH
BEGIN:VEVENT
UID:20260421T230228UTC-4399gim0cF@https://ikma.edu.my/
DTSTAMP:20260421T230228Z
DESCRIPTION:1. Mengenal pasti teknik-teknik dalam penghasilan kandungan gra
 fik menggunakan aplikasi Canva.2. Menghasilkan kandungan grafik bersesuaia
 n yang boleh digunakan sebagai bahan pemasaran di platform yang dipilih. h
 ttps://ikma.edu.my/en/takwim-program/event/1-pengeditan-grafik-menggunakan
 -canva
DTSTART:20240701T080000Z
DTEND:20240702T170000Z
LOCATION:Dalam Talian (Dalam Talian (Online))
SUMMARY:Pengeditan Grafik Menggunakan Canva
URL:https://ikma.edu.my/en/takwim-program/event/1-pengeditan-grafik-menggun
 akan-canva
END:VEVENT
END:VCALENDAR
